BEGIN:VCALENDAR
VERSION:2.0
PRODID:GIGPRESS 2.0 WORDPRESS PLUGIN
CALSCALE:GREGORIAN
X-WR-TIMEZONE:Etc/GMT
METHOD:PUBLISH
BEGIN:VTIMEZONE
TZID:GMT
BEGIN:STANDARD
DTSTART:20071028T010000
TZOFFSETTO:+0000
TZOFFSETFROM:+0000
END:STANDARD
END:VTIMEZONE
BEGIN:VEVENT
SUMMARY:Alpine Thunder at Palatine Oktoberfest
DESCRIPTION:
LOCATION:Palatine Oktoberfest\, Palatine\, US
UID:20260919T120000Z-813-justin@soapboxstudio.com
URL:https://alpinethunder.net
DTSTART;VALUE=DATE-TIME;TZID=GMT:20260919T120000Z
DTEND;VALUE=DATE-TIME;TZID=GMT:20260919T120000Z
DTSTAMP:20260418T124123Z
END:VEVENT
END:VCALENDAR