BEGIN:VCALENDAR
VERSION:2.0
PRODID:GIGPRESS 2.0 WORDPRESS PLUGIN
CALSCALE:GREGORIAN
X-WR-TIMEZONE:Etc/GMT
METHOD:PUBLISH
BEGIN:VTIMEZONE
TZID:GMT
BEGIN:STANDARD
DTSTART:20071028T010000
TZOFFSETTO:+0000
TZOFFSETFROM:+0000
END:STANDARD
END:VTIMEZONE
BEGIN:VEVENT
SUMMARY:Alpine Thunder at Brewfest Partners Pop Up Biergarten
DESCRIPTION:
LOCATION:Brewfest Partners Pop Up Biergarten\, Valparasio\, US
UID:20260807T053000Z-819-justin@soapboxstudio.com
URL:https://alpinethunder.net
DTSTART;VALUE=DATE-TIME;TZID=GMT:20260807T053000Z
DTEND;VALUE=DATE-TIME;TZID=GMT:20260807T053000Z
DTSTAMP:20260420T030318Z
END:VEVENT
END:VCALENDAR