BEGIN:VCALENDAR
VERSION:2.0
PRODID:GIGPRESS 2.0 WORDPRESS PLUGIN
CALSCALE:GREGORIAN
X-WR-TIMEZONE:Etc/GMT
METHOD:PUBLISH
BEGIN:VTIMEZONE
TZID:GMT
BEGIN:STANDARD
DTSTART:20071028T010000
TZOFFSETTO:+0000
TZOFFSETFROM:+0000
END:STANDARD
END:VTIMEZONE
BEGIN:VEVENT
SUMMARY:Alpine Thunder at Reds on 7th Oktoberfest
DESCRIPTION:
LOCATION:Reds on 7th Oktoberfest\, Delavan\, US
UID:20261016T203000Z-826-justin@soapboxstudio.com
URL:https://alpinethunder.net
DTSTART;VALUE=DATE-TIME;TZID=GMT:20261016T203000Z
DTEND;VALUE=DATE-TIME;TZID=GMT:20261016T203000Z
DTSTAMP:20260417T113922Z
END:VEVENT
END:VCALENDAR